Package: enrichplot Version: 1.26.6 Command: /home/biocbuild/R/R/bin/R CMD check --install=check:enrichplot.install-out.txt --library=/home/biocbuild/R/R/site-library --no-vignettes --timings enrichplot_1.26.6.tar.gz StartedAt: 2025-02-04 06:43:45 -0000 (Tue, 04 Feb 2025) EndedAt: 2025-02-04 06:47:37 -0000 (Tue, 04 Feb 2025) EllapsedTime: 232.3 seconds RetCode: 0 Status: WARNINGS CheckDir: enrichplot.Rcheck Warnings: 1