Package: enrichplot Version: 1.26.6 Command: rm -rf enrichplot.buildbin-libdir && mkdir enrichplot.buildbin-libdir && F:\biocbuild\bbs-3.20-bioc\R\bin\R.exe CMD INSTALL --build --library=enrichplot.buildbin-libdir enrichplot_1.26.6.tar.gz StartedAt: 2025-02-04 08:26:33 -0500 (Tue, 04 Feb 2025) EndedAt: 2025-02-04 08:27:23 -0500 (Tue, 04 Feb 2025) EllapsedTime: 50.2 seconds RetCode: 0 Status: OK PackageFile: enrichplot_1.26.6.zip PackageFileSize: 303.3 KiB