Package: enrichplot Version: 1.26.6 Command: /Library/Frameworks/R.framework/Resources/bin/R CMD check --install=check:enrichplot.install-out.txt --library=/Library/Frameworks/R.framework/Resources/library --no-vignettes --timings enrichplot_1.26.6.tar.gz StartedAt: 2025-02-04 18:59:14 -0500 (Tue, 04 Feb 2025) EndedAt: 2025-02-04 19:02:25 -0500 (Tue, 04 Feb 2025) EllapsedTime: 191.4 seconds RetCode: 0 Status: WARNINGS CheckDir: enrichplot.Rcheck Warnings: 1