Package: enrichViewNet Version: 1.4.0 Command: /home/biocbuild/bbs-3.20-bioc/R/bin/R CMD build --keep-empty-dirs --no-resave-data enrichViewNet StartedAt: 2024-11-19 18:47:12 -0500 (Tue, 19 Nov 2024) EndedAt: 2024-11-19 18:48:05 -0500 (Tue, 19 Nov 2024) EllapsedTime: 53.1 seconds RetCode: 0 Status: OK PackageFile: enrichViewNet_1.4.0.tar.gz PackageFileSize: 4.212 MiB