Package: enrichViewNet Version: 1.4.0 Command: chmod a+r enrichViewNet -R && F:\biocbuild\bbs-3.20-bioc\R\bin\R.exe CMD build --keep-empty-dirs --no-resave-data enrichViewNet StartedAt: 2025-01-30 18:36:58 -0500 (Thu, 30 Jan 2025) EndedAt: 2025-01-30 18:38:11 -0500 (Thu, 30 Jan 2025) EllapsedTime: 73.4 seconds RetCode: 0 Status: OK PackageFile: enrichViewNet_1.4.0.tar.gz PackageFileSize: 3.402 MiB