Package: enrichViewNet Version: 1.4.0 Command: /Library/Frameworks/R.framework/Resources/bin/R CMD INSTALL enrichViewNet StartedAt: 2025-03-31 16:19:09 -0400 (Mon, 31 Mar 2025) EndedAt: 2025-03-31 16:19:58 -0400 (Mon, 31 Mar 2025) EllapsedTime: 49.4 seconds RetCode: 0 Status: OK