Package: enrichViewNet Version: 1.4.0 Command: /Library/Frameworks/R.framework/Resources/bin/R CMD check --install=check:enrichViewNet.install-out.txt --library=/Library/Frameworks/R.framework/Resources/library --no-vignettes --timings enrichViewNet_1.4.0.tar.gz StartedAt: 2025-02-04 19:00:46 -0500 (Tue, 04 Feb 2025) EndedAt: 2025-02-04 19:04:14 -0500 (Tue, 04 Feb 2025) EllapsedTime: 208.4 seconds RetCode: 0 Status: OK CheckDir: enrichViewNet.Rcheck Warnings: 0