Package: enrichViewNet Version: 1.4.0 Command: /Library/Frameworks/R.framework/Resources/bin/R CMD build --keep-empty-dirs --no-resave-data enrichViewNet StartedAt: 2025-02-03 23:09:31 -0500 (Mon, 03 Feb 2025) EndedAt: 2025-02-03 23:10:33 -0500 (Mon, 03 Feb 2025) EllapsedTime: 61.4 seconds RetCode: 0 Status: OK PackageFile: enrichViewNet_1.4.0.tar.gz PackageFileSize: 4.395 MiB