Package: enrichViewNet Version: 1.4.0 Command: rm -rf enrichViewNet.buildbin-libdir && mkdir enrichViewNet.buildbin-libdir && /Users/biocbuild/BBS/utils/build-universal.sh enrichViewNet_1.4.0.tar.gz /Library/Frameworks/R.framework/Resources/bin/R enrichViewNet.buildbin-libdir StartedAt: 2025-04-02 14:13:55 -0400 (Wed, 02 Apr 2025) EndedAt: 2025-04-02 14:14:27 -0400 (Wed, 02 Apr 2025) EllapsedTime: 32.0 seconds RetCode: 0 Status: OK PackageFile: enrichViewNet_1.4.0.tgz PackageFileSize: 3.485 MiB