Package: enhancerHomologSearch Version: 1.12.0 Command: /home/biocbuild/R/R/bin/R CMD INSTALL enhancerHomologSearch StartedAt: 2025-03-31 20:36:05 -0000 (Mon, 31 Mar 2025) EndedAt: 2025-03-31 20:42:35 -0000 (Mon, 31 Mar 2025) EllapsedTime: 390.3 seconds RetCode: 0 Status: OK