Package: enhancerHomologSearch Version: 1.12.0 Command: /home/biocbuild/R/R/bin/R CMD build --keep-empty-dirs --no-resave-data enhancerHomologSearch StartedAt: 2025-03-31 23:15:08 -0000 (Mon, 31 Mar 2025) EndedAt: 2025-03-31 23:33:56 -0000 (Mon, 31 Mar 2025) EllapsedTime: 1127.7 seconds RetCode: 0 Status: OK PackageFile: enhancerHomologSearch_1.12.0.tar.gz PackageFileSize: 1.107 MiB