Package: enhancerHomologSearch Version: 1.12.0 Command: chmod a+r enhancerHomologSearch -R && F:\biocbuild\bbs-3.20-bioc\R\bin\R.exe CMD build --keep-empty-dirs --no-resave-data enhancerHomologSearch StartedAt: 2025-03-31 18:39:43 -0400 (Mon, 31 Mar 2025) EndedAt: 2025-03-31 19:03:28 -0400 (Mon, 31 Mar 2025) EllapsedTime: 1425.1 seconds RetCode: 0 Status: OK PackageFile: enhancerHomologSearch_1.12.0.tar.gz PackageFileSize: 1.043 MiB