Package: enhancerHomologSearch Version: 1.12.0 Command: /home/biocbuild/bbs-3.20-bioc/R/bin/R CMD check --install=check:enhancerHomologSearch.install-out.txt --library=/home/biocbuild/bbs-3.20-bioc/R/site-library --timings enhancerHomologSearch_1.12.0.tar.gz StartedAt: 2025-02-03 22:05:42 -0500 (Mon, 03 Feb 2025) EndedAt: 2025-02-03 22:24:10 -0500 (Mon, 03 Feb 2025) EllapsedTime: 1107.2 seconds RetCode: 0 Status: OK CheckDir: enhancerHomologSearch.Rcheck Warnings: 0