Package: enhancerHomologSearch Version: 1.12.0 Command: /Library/Frameworks/R.framework/Resources/bin/R CMD INSTALL enhancerHomologSearch StartedAt: 2025-03-31 15:40:37 -0400 (Mon, 31 Mar 2025) EndedAt: 2025-03-31 15:50:49 -0400 (Mon, 31 Mar 2025) EllapsedTime: 611.4 seconds RetCode: 0 Status: OK