Package: enhancerHomologSearch Version: 1.12.0 Command: /Library/Frameworks/R.framework/Resources/bin/R CMD check --install=check:enhancerHomologSearch.install-out.txt --library=/Library/Frameworks/R.framework/Resources/library --no-vignettes --timings enhancerHomologSearch_1.12.0.tar.gz StartedAt: 2025-01-28 18:21:22 -0500 (Tue, 28 Jan 2025) EndedAt: 2025-01-28 18:37:16 -0500 (Tue, 28 Jan 2025) EllapsedTime: 954.5 seconds RetCode: 0 Status: OK CheckDir: enhancerHomologSearch.Rcheck Warnings: 0