Package: eisaR Version: 1.18.0 Command: /Library/Frameworks/R.framework/Resources/bin/R CMD build --keep-empty-dirs --no-resave-data eisaR StartedAt: 2025-03-31 22:58:53 -0400 (Mon, 31 Mar 2025) EndedAt: 2025-03-31 23:00:49 -0400 (Mon, 31 Mar 2025) EllapsedTime: 115.7 seconds RetCode: 0 Status: OK PackageFile: eisaR_1.18.0.tar.gz PackageFileSize: 1.726 MiB