Package: eds Version: 1.8.0 Command: /home/biocbuild/R/R/bin/R CMD check --install=check:eds.install-out.txt --library=/home/biocbuild/R/R/site-library --no-vignettes --timings eds_1.8.0.tar.gz StartedAt: 2025-02-11 05:53:21 -0000 (Tue, 11 Feb 2025) EndedAt: 2025-02-11 05:54:06 -0000 (Tue, 11 Feb 2025) EllapsedTime: 45.1 seconds RetCode: 0 Status: OK CheckDir: eds.Rcheck Warnings: 0