Package: eds Version: 1.8.0 Command: /home/biocbuild/bbs-3.20-bioc/R/bin/R CMD check --install=check:eds.install-out.txt --library=/home/biocbuild/bbs-3.20-bioc/R/site-library --timings eds_1.8.0.tar.gz StartedAt: 2025-02-10 21:56:04 -0500 (Mon, 10 Feb 2025) EndedAt: 2025-02-10 21:56:40 -0500 (Mon, 10 Feb 2025) EllapsedTime: 36.0 seconds RetCode: 0 Status: OK CheckDir: eds.Rcheck Warnings: 0