Package: eds Version: 1.8.0 Command: /Library/Frameworks/R.framework/Resources/bin/R CMD INSTALL eds StartedAt: 2025-02-13 15:05:23 -0500 (Thu, 13 Feb 2025) EndedAt: 2025-02-13 15:06:03 -0500 (Thu, 13 Feb 2025) EllapsedTime: 40.9 seconds RetCode: 0 Status: OK