Package: eds Version: 1.8.0 Command: /Library/Frameworks/R.framework/Resources/bin/R CMD build --keep-empty-dirs --no-resave-data eds StartedAt: 2025-02-13 18:35:55 -0500 (Thu, 13 Feb 2025) EndedAt: 2025-02-13 18:36:25 -0500 (Thu, 13 Feb 2025) EllapsedTime: 30.2 seconds RetCode: 0 Status: OK PackageFile: eds_1.8.0.tar.gz PackageFileSize: 217.2 KiB