Package: eds Version: 1.8.0 Command: rm -rf eds.buildbin-libdir && mkdir eds.buildbin-libdir && /Users/biocbuild/BBS/utils/build-universal.sh eds_1.8.0.tar.gz /Library/Frameworks/R.framework/Resources/bin/R eds.buildbin-libdir StartedAt: 2025-02-14 14:41:29 -0500 (Fri, 14 Feb 2025) EndedAt: 2025-02-14 14:41:59 -0500 (Fri, 14 Feb 2025) EllapsedTime: 29.7 seconds RetCode: 0 Status: OK PackageFile: eds_1.8.0.tgz PackageFileSize: 257.8 KiB