Package: eds Version: 1.8.0 Command: /Library/Frameworks/R.framework/Resources/bin/R CMD check --install=check:eds.install-out.txt --library=/Library/Frameworks/R.framework/Resources/library --no-vignettes --timings eds_1.8.0.tar.gz StartedAt: 2025-02-11 18:29:59 -0500 (Tue, 11 Feb 2025) EndedAt: 2025-02-11 18:30:45 -0500 (Tue, 11 Feb 2025) EllapsedTime: 45.4 seconds RetCode: 0 Status: OK CheckDir: eds.Rcheck Warnings: 0