Package: eds Version: 1.8.0 Command: /Library/Frameworks/R.framework/Resources/bin/R CMD build --keep-empty-dirs --no-resave-data eds StartedAt: 2025-02-10 23:13:19 -0500 (Mon, 10 Feb 2025) EndedAt: 2025-02-10 23:13:35 -0500 (Mon, 10 Feb 2025) EllapsedTime: 16.1 seconds RetCode: 0 Status: OK PackageFile: eds_1.8.0.tar.gz PackageFileSize: 217.5 KiB