Package: edgeR Version: 4.4.2 Command: rm -rf edgeR.buildbin-libdir && mkdir edgeR.buildbin-libdir && F:\biocbuild\bbs-3.20-bioc\R\bin\R.exe CMD INSTALL --build --library=edgeR.buildbin-libdir edgeR_4.4.2.tar.gz StartedAt: 2025-01-31 08:35:26 -0500 (Fri, 31 Jan 2025) EndedAt: 2025-01-31 08:36:59 -0500 (Fri, 31 Jan 2025) EllapsedTime: 92.8 seconds RetCode: 0 Status: OK PackageFile: edgeR_4.4.2.zip PackageFileSize: 2.69 MiB