Package: edge Version: 2.38.0 Command: /home/biocbuild/R/R/bin/R CMD INSTALL edge StartedAt: 2025-01-27 21:47:12 -0000 (Mon, 27 Jan 2025) EndedAt: 2025-01-27 21:47:45 -0000 (Mon, 27 Jan 2025) EllapsedTime: 32.3 seconds RetCode: 0 Status: OK