Package: ecolitk Version: 1.78.0 Command: /home/biocbuild/R/R/bin/R CMD INSTALL ecolitk StartedAt: 2025-02-03 20:22:03 -0000 (Mon, 03 Feb 2025) EndedAt: 2025-02-03 20:22:07 -0000 (Mon, 03 Feb 2025) EllapsedTime: 3.5 seconds RetCode: 0 Status: OK