Package: ecolitk Version: 1.78.0 Command: /home/biocbuild/R/R/bin/R CMD check --install=check:ecolitk.install-out.txt --library=/home/biocbuild/R/R/site-library --no-vignettes --timings ecolitk_1.78.0.tar.gz StartedAt: 2025-01-28 06:48:07 -0000 (Tue, 28 Jan 2025) EndedAt: 2025-01-28 06:48:39 -0000 (Tue, 28 Jan 2025) EllapsedTime: 32.0 seconds RetCode: 0 Status: WARNINGS CheckDir: ecolitk.Rcheck Warnings: 1