Package: easyreporting Version: 1.18.0 Command: /home/biocbuild/R/R/bin/R CMD build --keep-empty-dirs --no-resave-data easyreporting StartedAt: 2025-03-31 23:13:08 -0000 (Mon, 31 Mar 2025) EndedAt: 2025-03-31 23:13:17 -0000 (Mon, 31 Mar 2025) EllapsedTime: 9.0 seconds RetCode: 0 Status: OK PackageFile: easyreporting_1.18.0.tar.gz PackageFileSize: 2.989 MiB