Package: easyreporting Version: 1.18.0 Command: chmod a+r easyreporting -R && F:\biocbuild\bbs-3.20-bioc\R\bin\R.exe CMD build --keep-empty-dirs --no-resave-data easyreporting StartedAt: 2025-03-31 18:37:43 -0400 (Mon, 31 Mar 2025) EndedAt: 2025-03-31 18:38:09 -0400 (Mon, 31 Mar 2025) EllapsedTime: 26.0 seconds RetCode: 0 Status: OK PackageFile: easyreporting_1.18.0.tar.gz PackageFileSize: 2.94 MiB