Package: easyreporting Version: 1.18.0 Command: rm -rf easyreporting.buildbin-libdir && mkdir easyreporting.buildbin-libdir && F:\biocbuild\bbs-3.20-bioc\R\bin\R.exe CMD INSTALL --build --library=easyreporting.buildbin-libdir easyreporting_1.18.0.tar.gz StartedAt: 2025-04-01 08:07:34 -0400 (Tue, 01 Apr 2025) EndedAt: 2025-04-01 08:09:14 -0400 (Tue, 01 Apr 2025) EllapsedTime: 100.1 seconds RetCode: 0 Status: OK PackageFile: easyreporting_1.18.0.zip PackageFileSize: 3.116 MiB