Package: easyreporting Version: 1.18.0 Command: /Library/Frameworks/R.framework/Resources/bin/R CMD check --install=check:easyreporting.install-out.txt --library=/Library/Frameworks/R.framework/Resources/library --no-vignettes --timings easyreporting_1.18.0.tar.gz StartedAt: 2025-02-04 18:43:13 -0500 (Tue, 04 Feb 2025) EndedAt: 2025-02-04 18:43:44 -0500 (Tue, 04 Feb 2025) EllapsedTime: 30.4 seconds RetCode: 0 Status: OK CheckDir: easyreporting.Rcheck Warnings: 0