Package: easyreporting Version: 1.18.0 Command: /Library/Frameworks/R.framework/Resources/bin/R CMD build --keep-empty-dirs --no-resave-data easyreporting StartedAt: 2025-02-03 22:59:16 -0500 (Mon, 03 Feb 2025) EndedAt: 2025-02-03 22:59:27 -0500 (Mon, 03 Feb 2025) EllapsedTime: 11.5 seconds RetCode: 0 Status: OK PackageFile: easyreporting_1.18.0.tar.gz PackageFileSize: 2.94 MiB