Package: easyreporting Version: 1.18.0 Command: rm -rf easyreporting.buildbin-libdir && mkdir easyreporting.buildbin-libdir && /Users/biocbuild/BBS/utils/build-universal.sh easyreporting_1.18.0.tar.gz /Library/Frameworks/R.framework/Resources/bin/R easyreporting.buildbin-libdir StartedAt: 2025-04-02 14:11:10 -0400 (Wed, 02 Apr 2025) EndedAt: 2025-04-02 14:11:16 -0400 (Wed, 02 Apr 2025) EllapsedTime: 5.6 seconds RetCode: 0 Status: OK PackageFile: easyreporting_1.18.0.tgz PackageFileSize: 3.109 MiB