Package: easylift Version: 1.4.0 Command: /home/biocbuild/R/R/bin/R CMD INSTALL easylift StartedAt: 2025-01-27 21:21:02 -0000 (Mon, 27 Jan 2025) EndedAt: 2025-01-27 21:21:42 -0000 (Mon, 27 Jan 2025) EllapsedTime: 39.5 seconds RetCode: 0 Status: OK