Package: easylift Version: 1.4.0 Command: /home/biocbuild/R/R/bin/R CMD build --keep-empty-dirs --no-resave-data easylift StartedAt: 2025-01-28 00:02:55 -0000 (Tue, 28 Jan 2025) EndedAt: 2025-01-28 00:03:49 -0000 (Tue, 28 Jan 2025) EllapsedTime: 54.0 seconds RetCode: 0 Status: OK PackageFile: easylift_1.4.0.tar.gz PackageFileSize: 697.9 KiB