Package: easyRNASeq Version: 2.42.0 Command: /home/biocbuild/bbs-3.20-bioc/R/bin/R CMD INSTALL easyRNASeq StartedAt: 2025-03-31 15:32:18 -0400 (Mon, 31 Mar 2025) EndedAt: 2025-03-31 15:33:01 -0400 (Mon, 31 Mar 2025) EllapsedTime: 42.5 seconds RetCode: 0 Status: OK