Package: easier Version: 1.12.0 Command: /home/biocbuild/R/R/bin/R CMD INSTALL easier StartedAt: 2025-01-30 21:05:58 -0000 (Thu, 30 Jan 2025) EndedAt: 2025-01-30 21:06:37 -0000 (Thu, 30 Jan 2025) EllapsedTime: 39.8 seconds RetCode: 0 Status: OK