Package: easier Version: 1.12.0 Command: /home/biocbuild/R/R/bin/R CMD build --keep-empty-dirs --no-resave-data easier StartedAt: 2025-01-30 23:18:43 -0000 (Thu, 30 Jan 2025) EndedAt: 2025-01-30 23:25:43 -0000 (Thu, 30 Jan 2025) EllapsedTime: 420.1 seconds RetCode: 0 Status: OK PackageFile: easier_1.12.0.tar.gz PackageFileSize: 2.89 MiB