Package: easier Version: 1.12.0 Command: rm -rf easier.buildbin-libdir && mkdir easier.buildbin-libdir && F:\biocbuild\bbs-3.20-bioc\R\bin\R.exe CMD INSTALL --build --library=easier.buildbin-libdir easier_1.12.0.tar.gz StartedAt: 2025-01-21 08:03:08 -0500 (Tue, 21 Jan 2025) EndedAt: 2025-01-21 08:03:59 -0500 (Tue, 21 Jan 2025) EllapsedTime: 51.1 seconds RetCode: 0 Status: OK PackageFile: easier_1.12.0.zip PackageFileSize: 1.866 MiB