Package: easier Version: 1.12.0 Command: /home/biocbuild/bbs-3.20-bioc/R/bin/R CMD build --keep-empty-dirs --no-resave-data --md5 easier StartedAt: 2025-03-31 17:06:44 -0400 (Mon, 31 Mar 2025) EndedAt: 2025-03-31 17:11:30 -0400 (Mon, 31 Mar 2025) EllapsedTime: 285.4 seconds RetCode: 0 Status: OK PackageFile: easier_1.12.0.tar.gz PackageFileSize: 3.679 MiB