Package: easier Version: 1.12.0 Command: rm -rf easier.buildbin-libdir && mkdir easier.buildbin-libdir && /Users/biocbuild/BBS/utils/build-universal.sh easier_1.12.0.tar.gz /Library/Frameworks/R.framework/Resources/bin/R easier.buildbin-libdir StartedAt: 2025-01-28 13:03:27 -0500 (Tue, 28 Jan 2025) EndedAt: 2025-01-28 13:05:11 -0500 (Tue, 28 Jan 2025) EllapsedTime: 104.0 seconds RetCode: 0 Status: OK PackageFile: easier_1.12.0.tgz PackageFileSize: 2.886 MiB