Package: dyebias Version: 1.66.0 Command: F:\biocbuild\bbs-3.20-bioc\R\bin\R.exe CMD INSTALL dyebias StartedAt: 2025-03-31 15:32:31 -0400 (Mon, 31 Mar 2025) EndedAt: 2025-03-31 15:32:54 -0400 (Mon, 31 Mar 2025) EllapsedTime: 22.3 seconds RetCode: 0 Status: OK