Package: dyebias Version: 1.66.0 Command: chmod a+r dyebias -R && F:\biocbuild\bbs-3.20-bioc\R\bin\R.exe CMD build --keep-empty-dirs --no-resave-data dyebias StartedAt: 2025-01-27 18:35:41 -0500 (Mon, 27 Jan 2025) EndedAt: 2025-01-27 18:36:22 -0500 (Mon, 27 Jan 2025) EllapsedTime: 41.1 seconds RetCode: 0 Status: OK PackageFile: dyebias_1.66.0.tar.gz PackageFileSize: 2.501 MiB