Package: dyebias Version: 1.66.0 Command: /home/biocbuild/bbs-3.20-bioc/R/bin/R CMD INSTALL dyebias StartedAt: 2025-03-31 15:13:41 -0400 (Mon, 31 Mar 2025) EndedAt: 2025-03-31 15:13:59 -0400 (Mon, 31 Mar 2025) EllapsedTime: 18.2 seconds RetCode: 0 Status: OK