Package: dyebias Version: 1.66.0 Command: rm -rf dyebias.buildbin-libdir && mkdir dyebias.buildbin-libdir && /Users/biocbuild/BBS/utils/build-universal.sh dyebias_1.66.0.tar.gz /Library/Frameworks/R.framework/Resources/bin/R dyebias.buildbin-libdir StartedAt: 2025-02-04 12:52:30 -0500 (Tue, 04 Feb 2025) EndedAt: 2025-02-04 12:52:42 -0500 (Tue, 04 Feb 2025) EllapsedTime: 12.0 seconds RetCode: 0 Status: OK PackageFile: dyebias_1.66.0.tgz PackageFileSize: 2.289 MiB