Package: dupRadar Version: 1.36.0 Command: /Library/Frameworks/R.framework/Resources/bin/R CMD check --install=check:dupRadar.install-out.txt --library=/Library/Frameworks/R.framework/Resources/library --no-vignettes --timings dupRadar_1.36.0.tar.gz StartedAt: 2025-04-01 17:57:45 -0400 (Tue, 01 Apr 2025) EndedAt: 2025-04-01 17:58:35 -0400 (Tue, 01 Apr 2025) EllapsedTime: 49.7 seconds RetCode: 0 Status: OK CheckDir: dupRadar.Rcheck Warnings: 0