Package: drugTargetInteractions Version: 1.14.0 Command: /home/biocbuild/bbs-3.20-bioc/R/bin/R CMD INSTALL drugTargetInteractions StartedAt: 2024-11-19 16:19:25 -0500 (Tue, 19 Nov 2024) EndedAt: 2024-11-19 16:20:02 -0500 (Tue, 19 Nov 2024) EllapsedTime: 37.3 seconds RetCode: 0 Status: OK