Package: dreamlet Version: 1.4.1 Command: /home/biocbuild/R/R/bin/R CMD check --install=check:dreamlet.install-out.txt --library=/home/biocbuild/R/R/site-library --no-vignettes --timings dreamlet_1.4.1.tar.gz StartedAt: 2025-01-31 05:50:14 -0000 (Fri, 31 Jan 2025) EndedAt: 2025-01-31 06:03:10 -0000 (Fri, 31 Jan 2025) EllapsedTime: 775.6 seconds RetCode: 0 Status: OK CheckDir: dreamlet.Rcheck Warnings: 0