Package: dreamlet Version: 1.4.1 Command: rm -rf dreamlet.buildbin-libdir && mkdir dreamlet.buildbin-libdir && /Users/biocbuild/BBS/utils/build-universal.sh dreamlet_1.4.1.tar.gz /Library/Frameworks/R.framework/Resources/bin/R dreamlet.buildbin-libdir StartedAt: 2025-04-01 11:48:00 -0400 (Tue, 01 Apr 2025) EndedAt: 2025-04-01 11:50:08 -0400 (Tue, 01 Apr 2025) EllapsedTime: 128.1 seconds RetCode: 0 Status: OK PackageFile: dreamlet_1.4.1.tgz PackageFileSize: 4.952 MiB