Package: dreamlet Version: 1.4.1 Command: /Library/Frameworks/R.framework/Resources/bin/R CMD INSTALL dreamlet StartedAt: 2025-02-03 18:16:01 -0500 (Mon, 03 Feb 2025) EndedAt: 2025-02-03 18:17:18 -0500 (Mon, 03 Feb 2025) EllapsedTime: 77.4 seconds RetCode: 0 Status: OK